BEGIN:VCALENDAR
VERSION:2.0
PRODID:-//eventon.com NONSGML v1.0//EN
CALSCALE:GREGORIAN
METHOD:PUBLISH
BEGIN:VEVENT
UID:69e60089516eb
DTSTAMP:20260420T103137Z
DTSTART:20210209
DTEND:20210210
LOCATION:Office de Tourisme de Die Rue des Jardins 26150 Die
SUMMARY:Raquettes en famille
DESCRIPTION:Réservations au 06 81 22 90 39\nhttps://accompagnateurs-drome-
 vercors.fr/agenda/raquettes-en-famille/
URL:https://accompagnateurs-drome-vercors.fr/agenda/raquettes-en-famille/
END:VEVENT
END:VCALENDAR